Workbook

Sheet Elevator Modernization
F1: SECTION 003100B MODERNIZATION QUOTATION FORM
A4: Project Lead (Name): | C4: Seth Spring
A5: Project Lead (Email): | C5: Seth.Spring@LerchBates.com
A6: Project Name: | C6: Orange County Library Downtown
A7: Project Number: | C7: 100051218
B8: Bidder Name:
A10: BID DETAIL | F10: CONTRACTORS
A12: Modernization Base Bid Costs | F12: Pricing
A14: Elevator: | B14: CAR 1
A15: Elevator: | B15: CAR 2
A16: Elevator: | B16: CAR 3
A17: Elevator: | B17: CAR 4
A18: Elevator: | B18: CAR 5
A19: Elevator: | B19: CAR 6
A20: ALL ELEVATORS: | B20: Allowance For Interior Finishes | F20: 300000
A21: Elevator: | B21: #3
A23: Elevator: | B23: #4
B25: TOTAL: | F25: =SUM(F14:F20) -> 300000
A28: Alternates Section 010300, 1.01, B (NET Cost Add/Deduct to base bid for all elevators) | F28: =F12 -> Pricing | G28: =G12 -> 0
A39: Base Bid Construction Schedule | F39: Dates
A40: Assuming an INPUTDATE Award, what date can you mobilize to commence work?
A41: Completion Date CAR 1
A42: Completion Date CAR 2
A43: Completion Date CAR 3
A44: Completion Date CAR 4
A45: Completion Date CAR 5
A46: Completion Date CAR 6
A48: DATE OF PROJECT COMPLETION
A50: How Many Additional Total Weeks to Project if Voluntary Alternate is Approved
A51: How Many Additional Total Weeks to Project if Voluntary Alternate is Approved
A52: How Many Additional Total Weeks to Project if Voluntary Alternate is Approved
A55: Base Bid Components and Technologys | F55: =F12 -> Pricing
A56: Machine or Pumping Unit | H56: Provide Subcontractor or manufacturer names as they apply to project.
A57: Controller (Base Bid)
A58: Controller (Alternate)
A59: Fixtures
A60: Door Operator
A61: Door Equipment
A62: Door Panels / Entrances
A63: 3D Door Edge
A64: Monitoring System (2019 Audio-Visual)
A67: Subcontractors | F67: =F12 -> Pricing
A68: General Contractor
A69: Electrical
A70: Fire Alarm
A71: HVAC
A72: Emergency Power
A73: Cab and/or Cladding Vendor

Sheet Maintenance Bid Form 5 year 
F1: SECTION 003100B
F2: MODERNIZATION QUOTATION FORM
A6: Project Name: | C6: ='Elevator Modernization'!C6 -> Orange County Library Downtown
A7: Project Number: | C7: ='Elevator Modernization'!C7 -> 100051218
B8: Bidder Name:
A10: BID DETAIL
F12: Pricing
A13: Interim Maintenance 018000, 1.01 (Monthly Cost)
A14: Elevator: | B14: ='Elevator Modernization'!B14 -> CAR 1 | F14: 0
A15: Elevator: | B15: ='Elevator Modernization'!B15 -> CAR 2 | F15: 0
A16: Elevator: | B16: ='Elevator Modernization'!B16 -> CAR 3 | F16: 0
A17: Elevator: | B17: ='Elevator Modernization'!B17 -> CAR 4 | F17: 0
A18: Elevator: | B18: ='Elevator Modernization'!B18 -> CAR 5 | F18: 0
A19: Elevator: | B19: ='Elevator Modernization'!B19 -> CAR 6 | F19: 0
A20: Elevator 3 | B20: Monthly Cost | F20: 0
A22: Elevator 4 | B22: Monthly Cost | F22: 0
B24: Total: | F24: =SUM(F14:F19) -> 0
A26: Warranty Maintenance 018000, 1.02 1 YEAR Cost (NOT included in base bid) | F26: =F12 -> Pricing | J26: Do Not include warranty maintenance total in your base bid. Purchaser has committed to paying it monthly as operating cost, not capital cost.
A27: Elevator: | B27: ='Elevator Modernization'!B14 -> CAR 1 | F27: 0
A28: Elevator: | B28: ='Elevator Modernization'!B15 -> CAR 2 | F28: 0
A29: Elevator: | B29: ='Elevator Modernization'!B16 -> CAR 3 | F29: 0
A30: Elevator: | B30: ='Elevator Modernization'!B17 -> CAR 4 | F30: 0
A31: Elevator: | B31: ='Elevator Modernization'!B18 -> CAR 5 | F31: 0
A32: Elevator: | B32: ='Elevator Modernization'!B19 -> CAR 6 | F32: 0
A33: Elevator 3 | B33: 12 month cost included in base bid | F33: 0
A35: Elevator 4 | B35: 12 month cost included in base bid | F35: 0
B37: Total: | F37: =SUM(F27:F32) -> 0
A39: Extended Maintenance 018000, 1.03 (REGULAR Time Coverage) | F39: Car 1 | H39: Car 2 | J39: Car 3 | L39: Car 4 | N39: Car 5 | P39: Car 6 | R39: Total
A40: YEAR 1 ANNUAL COST - Cost to maintain all cars | F40: 0 | H40: 0 | J40: 0 | L40: 0 | N40: 0 | P40: 0 | R40: =F40+H40+J40+L40+N40+P40 -> 0
A41: YEAR 2 ANNUAL COST - Cost to maintain all cars | F41: 0 | H41: 0 | J41: 0 | L41: 0 | N41: 0 | P41: 0 | R41: =F41+H41+J41+L41+N41+P41 -> 0
A42: YEAR 3 ANNUAL COST - Cost to maintain all cars | F42: 0 | H42: 0 | J42: 0 | L42: 0 | N42: 0 | P42: 0 | R42: =F42+H42+J42+L42+N42+P42 -> 0
A43: YEAR 4 ANNUAL COST - Cost to maintain all cars | F43: 0 | H43: 0 | J43: 0 | L43: 0 | N43: 0 | P43: 0 | R43: =F43+H43+J43+L43+N43+P43 -> 0
A44: YEAR 5 ANNUAL COST - Cost to maintain all cars | F44: 0 | H44: 0 | J44: 0 | L44: 0 | N44: 0 | P44: 0 | R44: =F44+H44+J44+L44+N44+P44 -> 0
B45: Total: | F45: =SUM(F40,F41,F42,F43,F44) -> 0 | H45: =SUM(H40,H41,H42,H43,H44) -> 0 | J45: =SUM(J40,J41,J42,J43,J44) -> 0 | L45: =SUM(L40,L41,L42,L43,L44) -> 0 | N45: =SUM(N40,N41,N42,N43,N44) -> 0 | P45: =SUM(P40,P41,P42,P43,P44) -> 0 | R45: =SUM(R40:R44) -> 0
A47: Extended Maintenance 018000, 1.03 (OVERTIME Coverage) | F47: Car 1 | H47: Car 2 | J47: Car 3 | L47: Car 4 | N47: Car 5 | P47: Car 6 | R47: Total
A48: YEAR 1 ANNUAL COST - Cost to maintain all cars | F48: 0 | H48: 0 | J48: 0 | L48: 0 | N48: 0 | P48: 0 | R48: =F48+H48+J48+L48+N48+P48 -> 0
A49: YEAR 2 ANNUAL COST - Cost to maintain all cars | F49: 0 | H49: 0 | J49: 0 | L49: 0 | N49: 0 | P49: 0 | R49: =F49+H49+J49+L49+N49+P49 -> 0
A50: YEAR 3 ANNUAL COST - Cost to maintain all cars | F50: 0 | H50: 0 | J50: 0 | L50: 0 | N50: 0 | P50: 0 | R50: =F50+H50+J50+L50+N50+P50 -> 0
A51: YEAR 4 ANNUAL COST - Cost to maintain all cars | F51: 0 | H51: 0 | J51: 0 | L51: 0 | N51: 0 | P51: 0 | R51: =F51+H51+J51+L51+N51+P51 -> 0
A52: YEAR 5 ANNUAL COST - Cost to maintain all cars | F52: 0 | H52: 0 | J52: 0 | L52: 0 | N52: 0 | P52: 0 | R52: =F52+H52+J52+L52+N52+P52 -> 0
B53: Total: | F53: =SUM(F48,F49,F50,F51,F52) -> 0 | H53: =SUM(H48,H49,H50,H51,H52) -> 0 | J53: =SUM(J48,J49,J50,J51,J52) -> 0 | L53: =SUM(L48,L49,L50,L51,L52) -> 0 | N53: =SUM(N48,N49,N50,N51,N52) -> 0 | P53: =SUM(P48,P49,P50,P51,P52) -> 0 | R53: =SUM(R48:R52) -> 0
A55: Labor Rates - Held Firm for initial Contract Term Duration | F55: Pricing
A56: 1.0 Mechanic Per Hour | F56: 0
A57: 1.5 Mechanic (Full) Per Hour | F57: 0
A58: 1.7 Mechanic (Full) Per Hour | F58: 0
A59: 2.0 Mechanic (Full) Per Hour | F59: 0
